BEGIN:VCALENDAR
VERSION:2.0
PRODID:-//lickingswcd.com//NONSGML kigkonsult.se iCalcreator 2.30.10//
CALSCALE:GREGORIAN
METHOD:PUBLISH
UID:d4a80b63-1c18-4971-bf5f-44fb07589435
X-WR-CALDESC:
X-WR-RELCALID:eb88f55ad8890e21359b0716c49dca74
X-WR-TIMEZONE:America/New_York
BEGIN:VTIMEZONE
TZID:America/New_York
BEGIN:STANDARD
TZNAME:EST
DTSTART:20181104T020000
TZOFFSETFROM:-0400
TZOFFSETTO:-0500
RDATE:20191103T020000
RDATE:20201101T020000
END:STANDARD
BEGIN:DAYLIGHT
TZNAME:EDT
DTSTART:20190310T020000
TZOFFSETFROM:-0500
TZOFFSETTO:-0400
RDATE:20200308T020000
RDATE:20210314T020000
END:DAYLIGHT
END:VTIMEZONE
BEGIN:VEVENT
UID:2abdd179-d899-4046-b98d-d4d33eb1f0f0
DTSTAMP:20260423T104010Z
DESCRIPTION:
DTSTART;TZID=America/New_York:20191020T000000
DTEND;TZID=America/New_York:20191026T235900
LOCATION:
SUMMARY:Stormwater Awareness Week
END:VEVENT
END:VCALENDAR
