BEGIN:VCALENDAR
VERSION:2.0
PRODID:-//lickingswcd.com//NONSGML kigkonsult.se iCalcreator 2.30.10//
CALSCALE:GREGORIAN
METHOD:PUBLISH
UID:234657bb-19cc-4234-a635-cc13e3ac32bb
X-WR-CALDESC:Board of Supervisors \nElection\n5:30—6:30 pm\nEvery  Licking 
 County landowner can vote.\nOne Supervisor will be elected by landowners a
 nd residents of Licking County to help guide the District’s mission.   \n
 \n\n\n
X-WR-RELCALID:4a4c47a5cd9bcf7aefcecfde32955555
X-WR-TIMEZONE:America/New_York
BEGIN:VTIMEZONE
TZID:America/New_York
BEGIN:STANDARD
TZNAME:EST
DTSTART:20191103T020000
TZOFFSETFROM:-0400
TZOFFSETTO:-0500
RDATE:20201101T020000
END:STANDARD
BEGIN:DAYLIGHT
TZNAME:EDT
DTSTART:20190310T020000
TZOFFSETFROM:-0500
TZOFFSETTO:-0400
RDATE:20200308T020000
RDATE:20210314T020000
END:DAYLIGHT
END:VTIMEZONE
BEGIN:VEVENT
UID:75ee8613-3ed4-41e1-89bd-fd521db6b238
DTSTAMP:20260423T124057Z
DESCRIPTION:Board of Supervisors \nElection\n5:30—6:30 pm\nEvery  Licking C
 ounty landowner can vote.\nOne Supervisor will be elected by landowners an
 d residents of Licking County to help guide the District’s mission.   \n\n
 \n\n
DTSTART;TZID=America/New_York:20191106T173000
DTEND;TZID=America/New_York:20191106T183000
LOCATION:The Grove by the River\, 840 Hollander Street\, Newark\, OH
SUMMARY:Board of Supervisors Election
END:VEVENT
END:VCALENDAR
