BEGIN:VCALENDAR
VERSION:2.0
PRODID:-//lickingswcd.com//NONSGML kigkonsult.se iCalcreator 2.30.10//
CALSCALE:GREGORIAN
METHOD:PUBLISH
UID:65e325af-2f0a-4d4d-b24c-777758ea115c
X-WR-CALDESC:
X-WR-RELCALID:2870218e50d2d766c74fde594c7b752b
X-WR-TIMEZONE:America/New_York
BEGIN:VTIMEZONE
TZID:America/New_York
BEGIN:STANDARD
TZNAME:EST
DTSTART:20191103T020000
TZOFFSETFROM:-0400
TZOFFSETTO:-0500
RDATE:20201101T020000
END:STANDARD
BEGIN:DAYLIGHT
TZNAME:EDT
DTSTART:20190310T020000
TZOFFSETFROM:-0500
TZOFFSETTO:-0400
RDATE:20200308T020000
RDATE:20210314T020000
END:DAYLIGHT
END:VTIMEZONE
BEGIN:VEVENT
UID:ef0baf70-12dc-41a1-bc1d-af549540e568
DTSTAMP:20260423T135730Z
DESCRIPTION:
DTSTART;TZID=America/New_York:20191219T140000
DTEND;TZID=America/New_York:20191219T150000
LOCATION:Common Pleas Court of Licking County\, Newark\, OH
SUMMARY:South Licking Watershed Conservancy District
END:VEVENT
END:VCALENDAR
