BEGIN:VCALENDAR
VERSION:2.0
PRODID:-//lickingswcd.com//NONSGML kigkonsult.se iCalcreator 2.30.10//
CALSCALE:GREGORIAN
METHOD:PUBLISH
UID:bcf0070c-0791-493a-98af-ff9637fa78cf
X-WR-CALDESC:
X-WR-RELCALID:850362be44e7e663856e60f9ca424f66
X-WR-TIMEZONE:America/New_York
BEGIN:VTIMEZONE
TZID:America/New_York
BEGIN:STANDARD
TZNAME:EST
DTSTART:20191103T020000
TZOFFSETFROM:-0400
TZOFFSETTO:-0500
RDATE:20201101T020000
END:STANDARD
BEGIN:DAYLIGHT
TZNAME:EDT
DTSTART:20190310T020000
TZOFFSETFROM:-0500
TZOFFSETTO:-0400
RDATE:20200308T020000
RDATE:20210314T020000
END:DAYLIGHT
END:VTIMEZONE
BEGIN:VEVENT
UID:c0faf0b6-297c-4905-b261-d24c33d967b0
DTSTAMP:20260423T143748Z
DESCRIPTION:
DTSTART;TZID=America/New_York:20191225T000000
DTEND;TZID=America/New_York:20191225T235900
LOCATION:
SUMMARY:Christmas Day - office closed
END:VEVENT
END:VCALENDAR
