BEGIN:VCALENDAR
VERSION:2.0
PRODID:-//lickingswcd.com//NONSGML kigkonsult.se iCalcreator 2.30.10//
CALSCALE:GREGORIAN
METHOD:PUBLISH
UID:af3230ee-08ee-4b14-b035-967b4d3dfbab
X-WR-CALDESC:The public is welcome to attend monthly Board meetings and ser
 ve on committees.  \n\nContact Soil & Water at 740-670-5330 for additional
  information.
X-WR-RELCALID:98a1c1d915d6b3d15943a8e4ea1bcce5
X-WR-TIMEZONE:America/New_York
BEGIN:VTIMEZONE
TZID:America/New_York
BEGIN:STANDARD
TZNAME:EST
DTSTART:20191103T020000
TZOFFSETFROM:-0400
TZOFFSETTO:-0500
RDATE:20201101T020000
END:STANDARD
BEGIN:DAYLIGHT
TZNAME:EDT
DTSTART:20190310T020000
TZOFFSETFROM:-0500
TZOFFSETTO:-0400
RDATE:20200308T020000
RDATE:20210314T020000
END:DAYLIGHT
END:VTIMEZONE
BEGIN:VEVENT
UID:0c8547a3-2047-474f-b2ba-07ba9f852d34
DTSTAMP:20260423T163252Z
DESCRIPTION:The public is welcome to attend monthly Board meetings and serv
 e on committees.  \n\nContact Soil & Water at 740-670-5330 for additional 
 information.
DTSTART;TZID=America/New_York:20200108T163000
DTEND;TZID=America/New_York:20200108T180000
LOCATION:Ag Service Center\, 771 East Main Street\, Newark\, OH
SUMMARY:Soil & Water Board Meeting
END:VEVENT
END:VCALENDAR
