BEGIN:VCALENDAR
VERSION:2.0
PRODID:-//lickingswcd.com//NONSGML kigkonsult.se iCalcreator 2.30.10//
CALSCALE:GREGORIAN
METHOD:PUBLISH
UID:e57d678b-4e47-427c-9cce-03f95bb3244e
X-WR-CALDESC:Multiple local\, state and federal agencies will be on hand to
  share with agricultural landowners about the programs and benefits they o
 ffer to agricultural landowners. Following the short presentations\, each 
 attendee will have an opportunity to ask individual agencies their specifi
 c questions.\n\nAgencies and organizations will include representatives fr
 om across Licking and Knox County. Agricultural landowners from surroundin
 g counties are welcome to attend as most of the information is relevant fo
 r multiple counties.\n\nAgencies represented include but are not limited t
 o: Buckeye Lake Watershed\, CAUV Department (County Auditor)\, Heartland B
 ank\, Licking Land Trust\, Nationwide Insurance\, NRCS\, OSU Extension\, a
 nd the Soil and Water Conservation District.\n\nYou do not need to be a cu
 rrent Farm Bureau member to attend this event.
X-WR-RELCALID:814d030fa9105b849ba529cdbed2249b
X-WR-TIMEZONE:America/New_York
BEGIN:VTIMEZONE
TZID:America/New_York
BEGIN:STANDARD
TZNAME:EST
DTSTART:20191103T020000
TZOFFSETFROM:-0400
TZOFFSETTO:-0500
RDATE:20201101T020000
END:STANDARD
BEGIN:DAYLIGHT
TZNAME:EDT
DTSTART:20190310T020000
TZOFFSETFROM:-0500
TZOFFSETTO:-0400
RDATE:20200308T020000
RDATE:20210314T020000
END:DAYLIGHT
END:VTIMEZONE
BEGIN:VEVENT
UID:fb290c83-63bd-4862-8b9b-8bbc9c7c8f88
DTSTAMP:20260423T175255Z
DESCRIPTION:Multiple local\, state and federal agencies will be on hand to 
 share with agricultural landowners about the programs and benefits they of
 fer to agricultural landowners. Following the short presentations\, each a
 ttendee will have an opportunity to ask individual agencies their specific
  questions.\n\nAgencies and organizations will include representatives fro
 m across Licking and Knox County. Agricultural landowners from surrounding
  counties are welcome to attend as most of the information is relevant for
  multiple counties.\n\nAgencies represented include but are not limited to
 : Buckeye Lake Watershed\, CAUV Department (County Auditor)\, Heartland Ba
 nk\, Licking Land Trust\, Nationwide Insurance\, NRCS\, OSU Extension\, an
 d the Soil and Water Conservation District.\n\nYou do not need to be a cur
 rent Farm Bureau member to attend this event.
DTSTART;TZID=America/New_York:20200204T183000
DTEND;TZID=America/New_York:20200204T203000
LOCATION:Utica High School
SUMMARY:Farm Bureau Landowner meeting
END:VEVENT
END:VCALENDAR
