BEGIN:VCALENDAR
VERSION:2.0
PRODID:-//lickingswcd.com//NONSGML kigkonsult.se iCalcreator 2.30.10//
CALSCALE:GREGORIAN
METHOD:PUBLISH
UID:2b19b58e-e643-4b8c-adbc-dc79f5ad5f2c
X-WR-CALDESC:
X-WR-RELCALID:82cab249583e5a819fa5d7bc62dfce00
X-WR-TIMEZONE:America/New_York
BEGIN:VTIMEZONE
TZID:America/New_York
BEGIN:STANDARD
TZNAME:EST
DTSTART:20191103T020000
TZOFFSETFROM:-0400
TZOFFSETTO:-0500
RDATE:20201101T020000
END:STANDARD
BEGIN:DAYLIGHT
TZNAME:EDT
DTSTART:20190310T020000
TZOFFSETFROM:-0500
TZOFFSETTO:-0400
RDATE:20200308T020000
RDATE:20210314T020000
END:DAYLIGHT
END:VTIMEZONE
BEGIN:VEVENT
UID:c7acccd5-e340-4b3e-8cee-876ea2923f54
DTSTAMP:20260423T173224Z
DESCRIPTION:
DTSTART;TZID=America/New_York:20200217T000000
DTEND;TZID=America/New_York:20200217T235900
LOCATION:
SUMMARY:President's Day- office closed
END:VEVENT
END:VCALENDAR
