BEGIN:VCALENDAR
VERSION:2.0
PRODID:-//lickingswcd.com//NONSGML kigkonsult.se iCalcreator 2.30.10//
CALSCALE:GREGORIAN
METHOD:PUBLISH
UID:44defd87-a16f-4616-8856-65260aaac737
X-WR-CALDESC:The public is welcome to attend monthly Board meetings and ser
 ve on committees.  \n\nContact Soil & Water at 740-670-5330 for additional
  information.
X-WR-RELCALID:d562755be70924f4a14a7fc8f7248f32
X-WR-TIMEZONE:America/New_York
BEGIN:VTIMEZONE
TZID:America/New_York
BEGIN:STANDARD
TZNAME:EST
DTSTART:20191103T020000
TZOFFSETFROM:-0400
TZOFFSETTO:-0500
RDATE:20201101T020000
END:STANDARD
BEGIN:DAYLIGHT
TZNAME:EDT
DTSTART:20190310T020000
TZOFFSETFROM:-0500
TZOFFSETTO:-0400
RDATE:20200308T020000
RDATE:20210314T020000
END:DAYLIGHT
END:VTIMEZONE
BEGIN:VEVENT
UID:c338cd17-d11d-41ff-8895-c0befdb15f4b
DTSTAMP:20260423T175701Z
DESCRIPTION:The public is welcome to attend monthly Board meetings and serv
 e on committees.  \n\nContact Soil & Water at 740-670-5330 for additional 
 information.
DTSTART;TZID=America/New_York:20200219T163000
DTEND;TZID=America/New_York:20200219T180000
LOCATION:Ag Service Center\, 771 East Main Street\, Newark\, OH
SUMMARY:Soil & Water Board Meeting
END:VEVENT
END:VCALENDAR
