BEGIN:VCALENDAR
VERSION:2.0
PRODID:-//lickingswcd.com//NONSGML kigkonsult.se iCalcreator 2.30.10//
CALSCALE:GREGORIAN
METHOD:PUBLISH
UID:e65e7a68-12da-440b-939f-40fbabbf0c91
X-WR-CALDESC:The Ohio Agricultural Hall of Fame each year recognizes outsta
 nding contributions by individuals to agriculture in the state of Ohio.\n
 \nSomeone who wants to nominate an individual whom he or she believes is d
 eserving of consideration for induction into the Ohio Agricultural Hall of
  Fame may download a nomination form at the link below. Nomination forms a
 nd three letters of recommendation must be submitted by March 15 to be eli
 gible for consideration.
X-WR-RELCALID:e0ae59bcfd518d7fd18470dcc800660b
X-WR-TIMEZONE:America/New_York
BEGIN:VTIMEZONE
TZID:America/New_York
BEGIN:STANDARD
TZNAME:EST
DTSTART:20191103T020000
TZOFFSETFROM:-0400
TZOFFSETTO:-0500
RDATE:20201101T020000
END:STANDARD
BEGIN:DAYLIGHT
TZNAME:EDT
DTSTART:20200308T020000
TZOFFSETFROM:-0500
TZOFFSETTO:-0400
RDATE:20210314T020000
END:DAYLIGHT
END:VTIMEZONE
BEGIN:VEVENT
UID:ad265cab-bdf1-4835-9287-1cdcdbad79b0
DTSTAMP:20260423T194839Z
DESCRIPTION:The Ohio Agricultural Hall of Fame each year recognizes outstan
 ding contributions by individuals to agriculture in the state of Ohio.\n\n
 Someone who wants to nominate an individual whom he or she believes is des
 erving of consideration for induction into the Ohio Agricultural Hall of F
 ame may download a nomination form at the link below. Nomination forms and
  three letters of recommendation must be submitted by March 15 to be eligi
 ble for consideration.
DTSTART;TZID=America/New_York:20200315T000000
DTEND;TZID=America/New_York:20200315T235900
LOCATION:
SUMMARY:Ohio Ag Hall of Fame Nomination deadline
END:VEVENT
END:VCALENDAR
