BEGIN:VCALENDAR
VERSION:2.0
PRODID:-//lickingswcd.com//NONSGML kigkonsult.se iCalcreator 2.30.10//
CALSCALE:GREGORIAN
METHOD:PUBLISH
UID:443864a8-73d2-4f91-887b-5a9a3ba34894
X-WR-CALDESC:Annually the USDA Natural Resources Conservation Service (NRCS
 ) and the Licking County Soil & Water Conservation District gathers landow
 ners to discuss local conservation practices and needs.  Locally-led conse
 rvation is based on the principle that local people make the best decision
 s for their own communities. This year the Farm Bureau is joining the conv
 ersation to determine policy needs from their Licking County members. \n\n
 7:00-7:30 am - Buffet Breakfast\n7:30-8:00 am  - Welcome and Introductions
 \nH2Ohio overview - Jordan Hoewischer\, Director of Water Quality Research
  from the Ohio Farm Bureau\n8:00-9:00 am - Information gathering/Open disc
 ussion  \n\nThe purpose of the LWG is to provide guidance to your NRCS and
  Soil & Water field offices concerning the implementation and delivery of 
 conservation programs.  You are part of a diverse group invited to discuss
  topics such as:\n•	Conditions of the natural resources in Licking County\n
 •	The local application process for NRCS programs\, including ranking crite
 ria and application periods\n•	H2Ohio eligible conservation practices\n•	The
  need for new\, innovative conservation practices\n•	How NRCS and Soil & Wa
 ter can partner to best serve the people of Licking County\n\nIn addition 
 to these topics\, Farm Bureau works on a diverse list of issues including 
 trade\, ag education\, infrastructure\, commodities and crop insurance. Fa
 rm Bureau believes that the best policies start at the grassroots level fr
 om people who live it everyday.\n\nThere is no charge for this event.  RSV
 P required for planning purposes.  \n
X-WR-RELCALID:769ea4513fcc4e97f5169ec72d52997c
X-WR-TIMEZONE:America/New_York
BEGIN:VTIMEZONE
TZID:America/New_York
BEGIN:STANDARD
TZNAME:EST
DTSTART:20191103T020000
TZOFFSETFROM:-0400
TZOFFSETTO:-0500
RDATE:20201101T020000
END:STANDARD
BEGIN:DAYLIGHT
TZNAME:EDT
DTSTART:20200308T020000
TZOFFSETFROM:-0500
TZOFFSETTO:-0400
RDATE:20210314T020000
END:DAYLIGHT
END:VTIMEZONE
BEGIN:VEVENT
UID:880a1758-23e0-43ec-8744-99f2cae9a91b
DTSTAMP:20260423T192133Z
DESCRIPTION:Annually the USDA Natural Resources Conservation Service (NRCS)
  and the Licking County Soil & Water Conservation District gathers landown
 ers to discuss local conservation practices and needs.  Locally-led conser
 vation is based on the principle that local people make the best decisions
  for their own communities. This year the Farm Bureau is joining the conve
 rsation to determine policy needs from their Licking County members. \n\n7
 :00-7:30 am - Buffet Breakfast\n7:30-8:00 am  - Welcome and Introductions
 \nH2Ohio overview - Jordan Hoewischer\, Director of Water Quality Research
  from the Ohio Farm Bureau\n8:00-9:00 am - Information gathering/Open disc
 ussion  \n\nThe purpose of the LWG is to provide guidance to your NRCS and
  Soil & Water field offices concerning the implementation and delivery of 
 conservation programs.  You are part of a diverse group invited to discuss
  topics such as:\n•	Conditions of the natural resources in Licking County\n
 •	The local application process for NRCS programs\, including ranking crite
 ria and application periods\n•	H2Ohio eligible conservation practices\n•	The
  need for new\, innovative conservation practices\n•	How NRCS and Soil & Wa
 ter can partner to best serve the people of Licking County\n\nIn addition 
 to these topics\, Farm Bureau works on a diverse list of issues including 
 trade\, ag education\, infrastructure\, commodities and crop insurance. Fa
 rm Bureau believes that the best policies start at the grassroots level fr
 om people who live it everyday.\n\nThere is no charge for this event.  RSV
 P required for planning purposes.  \n
DTSTART;TZID=America/New_York:20200320T070000
DTEND;TZID=America/New_York:20200320T090000
LOCATION:
SUMMARY:CANCELED Local Workgroup Meeting
END:VEVENT
END:VCALENDAR
