BEGIN:VCALENDAR
VERSION:2.0
PRODID:-//lickingswcd.com//NONSGML kigkonsult.se iCalcreator 2.30.10//
CALSCALE:GREGORIAN
METHOD:PUBLISH
UID:464fba91-9f40-478e-87a5-26715673918d
X-WR-CALDESC:The public is welcome to attend monthly Board meetings and ser
 ve on committees.  \nThe meeting will be held via Zoom\, you are welcome t
 o join us via Zoom. \n\nInfo SWCD is inviting you to a scheduled Zoom meet
 ing.\n\nTopic: Licking SWCD \nTime: Apr 15\, 2020 04:30 PM Eastern Time (U
 S and Canada)\n\nJoin Zoom Meeting\nhttps://us02web.zoom.us/j/82043233693
 \n\nMeeting ID: 820 4323 3693\nOne tap mobile\n+16465588656\,\,82043233693
 # US (New York)\n+13126266799\,\,82043233693# US (Chicago)\n\nDial by your
  location\n        +1 646 558 8656 US (New York)\n        +1 312 626 6799 
 US (Chicago)\n        +1 669 900 9128 US (San Jose)\n        +1 253 215 87
 82 US\n        +1 301 715 8592 US\n        +1 346 248 7799 US (Houston)\nM
 eeting ID: 820 4323 3693\n\nContact Soil & Water at 740-670-5330 for addit
 ional information.
X-WR-RELCALID:b3d46c824cb55a74c47c2267579767c2
X-WR-TIMEZONE:America/New_York
BEGIN:VTIMEZONE
TZID:America/New_York
BEGIN:STANDARD
TZNAME:EST
DTSTART:20191103T020000
TZOFFSETFROM:-0400
TZOFFSETTO:-0500
RDATE:20201101T020000
END:STANDARD
BEGIN:DAYLIGHT
TZNAME:EDT
DTSTART:20200308T020000
TZOFFSETFROM:-0500
TZOFFSETTO:-0400
RDATE:20210314T020000
END:DAYLIGHT
END:VTIMEZONE
BEGIN:VEVENT
UID:956b1413-9496-4928-ba3b-811cb234f8f5
DTSTAMP:20260423T211602Z
DESCRIPTION:The public is welcome to attend monthly Board meetings and serv
 e on committees.  \nThe meeting will be held via Zoom\, you are welcome to
  join us via Zoom. \n\nInfo SWCD is inviting you to a scheduled Zoom meeti
 ng.\n\nTopic: Licking SWCD \nTime: Apr 15\, 2020 04:30 PM Eastern Time (US
  and Canada)\n\nJoin Zoom Meeting\nhttps://us02web.zoom.us/j/82043233693\n
 \nMeeting ID: 820 4323 3693\nOne tap mobile\n+16465588656\,\,82043233693# 
 US (New York)\n+13126266799\,\,82043233693# US (Chicago)\n\nDial by your l
 ocation\n        +1 646 558 8656 US (New York)\n        +1 312 626 6799 US
  (Chicago)\n        +1 669 900 9128 US (San Jose)\n        +1 253 215 8782
  US\n        +1 301 715 8592 US\n        +1 346 248 7799 US (Houston)\nMee
 ting ID: 820 4323 3693\n\nContact Soil & Water at 740-670-5330 for additio
 nal information.
DTSTART;TZID=America/New_York:20200415T163000
DTEND;TZID=America/New_York:20200415T180000
LOCATION:Ag Service Center\, 771 East Main Street\, Newark\, OH
SUMMARY:Soil & Water Board Meeting
END:VEVENT
END:VCALENDAR
