BEGIN:VCALENDAR
VERSION:2.0
PRODID:-//lickingswcd.com//NONSGML kigkonsult.se iCalcreator 2.30.10//
CALSCALE:GREGORIAN
METHOD:PUBLISH
UID:152ebbdd-3d0b-41d0-9adc-c92ff806c560
X-WR-CALDESC:
X-WR-RELCALID:5a3eb97ca0cdb6d77d2778c7f3862291
X-WR-TIMEZONE:America/New_York
BEGIN:VTIMEZONE
TZID:America/New_York
BEGIN:STANDARD
TZNAME:EST
DTSTART:20191103T020000
TZOFFSETFROM:-0400
TZOFFSETTO:-0500
RDATE:20201101T020000
RDATE:20211107T020000
END:STANDARD
BEGIN:DAYLIGHT
TZNAME:EDT
DTSTART:20200308T020000
TZOFFSETFROM:-0500
TZOFFSETTO:-0400
RDATE:20210314T020000
END:DAYLIGHT
END:VTIMEZONE
BEGIN:VEVENT
UID:d47f163c-4956-4eef-b4f1-7ae9798ee973
DTSTAMP:20260424T003919Z
DESCRIPTION:
DTSTART;TZID=America/New_York:20200630T000000
DTEND;TZID=America/New_York:20200630T235900
LOCATION:
SUMMARY:Office closed for Columbus Day
END:VEVENT
END:VCALENDAR
