BEGIN:VCALENDAR
VERSION:2.0
PRODID:-//lickingswcd.com//NONSGML kigkonsult.se iCalcreator 2.30.10//
CALSCALE:GREGORIAN
METHOD:PUBLISH
UID:3979ed43-a59e-4fd4-a2ac-48f68b2b8172
X-WR-CALDESC:The Board will hold it's regularly scheduled meeting in person
 .  A link to the agenda is below.\n\nDue to the orders from the Governor\,
  the public is welcome to join the meeting via Zoom. You may dial in or us
 e the online application to join the meeting.\n\nJoin Zoom Meeting\nhttps:
 //us02web.zoom.us/j/81888104149?pwd=NDZqdzdMQUsyOG9KdDJ6a0NKdkcwZz09\n\nMe
 eting ID: 818 8810 4149\nPassword: 781596\nOne tap mobile\n+16465588656\,\
 ,81888104149#\,\,\,\,0#\,\,781596# US (New York)\n+13017158592\,\,81888104
 149#\,\,\,\,0#\,\,781596# US (Germantown)\n\nDial by your location\n      
   +1 646 558 8656 US (New York)\n        +1 301 715 8592 US (Germantown)\n
         +1 312 626 6799 US (Chicago)\n        +1 669 900 9128 US (San Jose
 )\n        +1 253 215 8782 US (Tacoma)\n        +1 346 248 7799 US (Housto
 n)\nMeeting ID: 818 8810 4149\nPassword: 781596\nFind your local number: h
 ttps://us02web.zoom.us/u/kd9WRUxzNF\n\n\n\nContact Soil & Water at 740-670
 -5330 for additional information.
X-WR-RELCALID:c3269de4fb16a945e589e4eb15af021e
X-WR-TIMEZONE:America/New_York
BEGIN:VTIMEZONE
TZID:America/New_York
BEGIN:STANDARD
TZNAME:EST
DTSTART:20191103T020000
TZOFFSETFROM:-0400
TZOFFSETTO:-0500
RDATE:20201101T020000
RDATE:20211107T020000
END:STANDARD
BEGIN:DAYLIGHT
TZNAME:EDT
DTSTART:20200308T020000
TZOFFSETFROM:-0500
TZOFFSETTO:-0400
RDATE:20210314T020000
END:DAYLIGHT
END:VTIMEZONE
BEGIN:VEVENT
UID:99283280-7975-4dee-9de3-188668319dc1
DTSTAMP:20260424T024211Z
DESCRIPTION:The Board will hold it's regularly scheduled meeting in person.
   A link to the agenda is below.\n\nDue to the orders from the Governor\, 
 the public is welcome to join the meeting via Zoom. You may dial in or use
  the online application to join the meeting.\n\nJoin Zoom Meeting\nhttps:/
 /us02web.zoom.us/j/81888104149?pwd=NDZqdzdMQUsyOG9KdDJ6a0NKdkcwZz09\n\nMee
 ting ID: 818 8810 4149\nPassword: 781596\nOne tap mobile\n+16465588656\,\,
 81888104149#\,\,\,\,0#\,\,781596# US (New York)\n+13017158592\,\,818881041
 49#\,\,\,\,0#\,\,781596# US (Germantown)\n\nDial by your location\n       
  +1 646 558 8656 US (New York)\n        +1 301 715 8592 US (Germantown)\n 
        +1 312 626 6799 US (Chicago)\n        +1 669 900 9128 US (San Jose)
 \n        +1 253 215 8782 US (Tacoma)\n        +1 346 248 7799 US (Houston
 )\nMeeting ID: 818 8810 4149\nPassword: 781596\nFind your local number: ht
 tps://us02web.zoom.us/u/kd9WRUxzNF\n\n\n\nContact Soil & Water at 740-670-
 5330 for additional information.
DTSTART;TZID=America/New_York:20200715T163000
DTEND;TZID=America/New_York:20200715T180000
LOCATION:Ag Service Center\, 771 East Main Street\, Newark\, OH
SUMMARY:Soil & Water Board Meeting
END:VEVENT
END:VCALENDAR
