BEGIN:VCALENDAR
VERSION:2.0
PRODID:-//lickingswcd.com//NONSGML kigkonsult.se iCalcreator 2.30.10//
CALSCALE:GREGORIAN
METHOD:PUBLISH
UID:b95fca7f-81c9-4b81-9c9a-844f3cfd8a9a
X-WR-CALDESC:THE ECONOMICS OF CONSERVATION VIRTUAL WORKSHOP FOR LANDOWNERS
 \nMadison County OSU Extension\, Madison SWCD\, Natural Resources Conserva
 tion Service (NRCS)\, and\nPheasants Forever have teamed up to bring you a
  free\, virtual workshop series on The Economics of\nConservation. \nPleas
 e join us virtually to learn more about the costs and benefits of conserva
 tion efforts that\nyou can do on your property. \nStarting Wednesday July 
 8th and continuing every Wednesday for six weeks\, a\nnew topic will be di
 scussed by experts in the field of conservation economics. Topics will inc
 lude grazing\nmanagement and practices\, profitable woodland management\, 
 conservation on the farm\, and a virtual\npasture walk. The six workshops 
 will begin at noon and last approximately 30 minutes. There will be an\nop
 portunity to ask questions before each series or questions can be asked li
 ve! Each workshop will be\nrecorded and made available for future viewing.
 \nTo participate in the series\, please register at go.osu.edu/conservatio
 n.\n
X-WR-RELCALID:255c85723dcc0dc7e5000358c12cba6e
X-WR-TIMEZONE:America/New_York
BEGIN:VTIMEZONE
TZID:America/New_York
BEGIN:STANDARD
TZNAME:EST
DTSTART:20191103T020000
TZOFFSETFROM:-0400
TZOFFSETTO:-0500
RDATE:20201101T020000
RDATE:20211107T020000
END:STANDARD
BEGIN:DAYLIGHT
TZNAME:EDT
DTSTART:20200308T020000
TZOFFSETFROM:-0500
TZOFFSETTO:-0400
RDATE:20210314T020000
END:DAYLIGHT
END:VTIMEZONE
BEGIN:VEVENT
UID:4ec93878-baa7-4415-981d-959ec16f8cdf
DTSTAMP:20260424T023611Z
DESCRIPTION:THE ECONOMICS OF CONSERVATION VIRTUAL WORKSHOP FOR LANDOWNERS\n
 Madison County OSU Extension\, Madison SWCD\, Natural Resources Conservati
 on Service (NRCS)\, and\nPheasants Forever have teamed up to bring you a f
 ree\, virtual workshop series on The Economics of\nConservation. \nPlease 
 join us virtually to learn more about the costs and benefits of conservati
 on efforts that\nyou can do on your property. \nStarting Wednesday July 8t
 h and continuing every Wednesday for six weeks\, a\nnew topic will be disc
 ussed by experts in the field of conservation economics. Topics will inclu
 de grazing\nmanagement and practices\, profitable woodland management\, co
 nservation on the farm\, and a virtual\npasture walk. The six workshops wi
 ll begin at noon and last approximately 30 minutes. There will be an\noppo
 rtunity to ask questions before each series or questions can be asked live
 ! Each workshop will be\nrecorded and made available for future viewing.\n
 To participate in the series\, please register at go.osu.edu/conservation.
 \n
DTSTART;TZID=America/New_York:20200722T120000
DTEND;TZID=America/New_York:20200722T130000
LOCATION:Virtual
SUMMARY:Economics of Conservation: Virtual Workshop Grazing Summer Annuals
END:VEVENT
END:VCALENDAR
