BEGIN:VCALENDAR
VERSION:2.0
PRODID:-//lickingswcd.com//NONSGML kigkonsult.se iCalcreator 2.30.10//
CALSCALE:GREGORIAN
METHOD:PUBLISH
UID:124209f1-668e-4c1a-ac29-35d06f4d3664
X-WR-CALDESC:The public is welcome to attend monthly Board meetings and ser
 ve on committees.  \n\nContact Soil & Water at 740-670-5330 for additional
  information.
X-WR-RELCALID:66d76284b8bf17362a885da7a8513a0b
X-WR-TIMEZONE:America/New_York
BEGIN:VTIMEZONE
TZID:America/New_York
BEGIN:STANDARD
TZNAME:EST
DTSTART:20191103T020000
TZOFFSETFROM:-0400
TZOFFSETTO:-0500
RDATE:20201101T020000
RDATE:20211107T020000
END:STANDARD
BEGIN:DAYLIGHT
TZNAME:EDT
DTSTART:20200308T020000
TZOFFSETFROM:-0500
TZOFFSETTO:-0400
RDATE:20210314T020000
END:DAYLIGHT
END:VTIMEZONE
BEGIN:VEVENT
UID:ea758a53-96c0-4885-91d6-e21ec01f4503
DTSTAMP:20260424T040043Z
DESCRIPTION:The public is welcome to attend monthly Board meetings and serv
 e on committees.  \n\nContact Soil & Water at 740-670-5330 for additional 
 information.
DTSTART;TZID=America/New_York:20200819T163000
DTEND;TZID=America/New_York:20200819T180000
LOCATION:Ag Service Center\, 771 East Main Street\, Newark\, OH
SUMMARY:Soil & Water Board Meeting
END:VEVENT
END:VCALENDAR
