BEGIN:VCALENDAR
VERSION:2.0
PRODID:-//lickingswcd.com//NONSGML kigkonsult.se iCalcreator 2.30.10//
CALSCALE:GREGORIAN
METHOD:PUBLISH
UID:695663f6-9d26-4333-9b8e-7d88d74c78e3
X-WR-CALDESC:
X-WR-RELCALID:121314d2511001962a8cc3b937312e44
X-WR-TIMEZONE:America/New_York
BEGIN:VTIMEZONE
TZID:America/New_York
BEGIN:STANDARD
TZNAME:EST
DTSTART:20191103T020000
TZOFFSETFROM:-0400
TZOFFSETTO:-0500
RDATE:20201101T020000
RDATE:20211107T020000
END:STANDARD
BEGIN:DAYLIGHT
TZNAME:EDT
DTSTART:20200308T020000
TZOFFSETFROM:-0500
TZOFFSETTO:-0400
RDATE:20210314T020000
END:DAYLIGHT
END:VTIMEZONE
BEGIN:VEVENT
UID:a5c3f220-1df4-4a99-9bea-d31aa0218fa3
DTSTAMP:20260424T060621Z
DESCRIPTION:
DTSTART;TZID=America/New_York:20200907T000000
DTEND;TZID=America/New_York:20200907T235900
LOCATION:
SUMMARY:Office Closed - Labor Day
END:VEVENT
END:VCALENDAR
