BEGIN:VCALENDAR
VERSION:2.0
PRODID:-//lickingswcd.com//NONSGML kigkonsult.se iCalcreator 2.30.10//
CALSCALE:GREGORIAN
METHOD:PUBLISH
UID:9317a172-df74-42cc-b63e-6f9d677d622c
X-WR-CALDESC:The public is welcome to attend monthly Board meetings and ser
 ve on committees.  \n\nhttps://us02web.zoom.us/j/82989139760?pwd=bTJPL1Fja
 lRPWHNWeW5pTWdCeklnQT09\nMeeting ID: 829 8913 9760\nPasscode: 543865\nOne 
 tap mobile\n+13126266799\,\,82989139760#\,\,\,\,\,\,0#\,\,543865# US (Chic
 ago)\n+16465588656\,\,82989139760#\,\,\,\,\,\,0#\,\,543865# US (New York)
 \n\nDial by your location\n        +1 312 626 6799 US (Chicago)\n        +
 1 646 558 8656 US (New York)\nMeeting ID: 829 8913 9760\nPasscode: 543865
 \nFind your local number: https://us02web.zoom.us/u/kh1J0bnfB\n\nContact S
 oil & Water at 740-670-5330 for additional information.
X-WR-RELCALID:70fb2d3d6d436c25a0e26ea404bd0a58
X-WR-TIMEZONE:America/New_York
BEGIN:VTIMEZONE
TZID:America/New_York
BEGIN:STANDARD
TZNAME:EST
DTSTART:20191103T020000
TZOFFSETFROM:-0400
TZOFFSETTO:-0500
RDATE:20201101T020000
RDATE:20211107T020000
END:STANDARD
BEGIN:DAYLIGHT
TZNAME:EDT
DTSTART:20200308T020000
TZOFFSETFROM:-0500
TZOFFSETTO:-0400
RDATE:20210314T020000
RDATE:20220313T020000
END:DAYLIGHT
END:VTIMEZONE
BEGIN:VEVENT
UID:cbf6a985-fd15-415f-a21c-dfc6931ee614
DTSTAMP:20260424T062026Z
DESCRIPTION:The public is welcome to attend monthly Board meetings and serv
 e on committees.  \n\nhttps://us02web.zoom.us/j/82989139760?pwd=bTJPL1Fjal
 RPWHNWeW5pTWdCeklnQT09\nMeeting ID: 829 8913 9760\nPasscode: 543865\nOne t
 ap mobile\n+13126266799\,\,82989139760#\,\,\,\,\,\,0#\,\,543865# US (Chica
 go)\n+16465588656\,\,82989139760#\,\,\,\,\,\,0#\,\,543865# US (New York)\n
 \nDial by your location\n        +1 312 626 6799 US (Chicago)\n        +1 
 646 558 8656 US (New York)\nMeeting ID: 829 8913 9760\nPasscode: 543865\nF
 ind your local number: https://us02web.zoom.us/u/kh1J0bnfB\n\nContact Soil
  & Water at 740-670-5330 for additional information.
DTSTART;TZID=America/New_York:20200916T163000
DTEND;TZID=America/New_York:20200916T180000
LOCATION:Ag Service Center\, 771 East Main Street\, Newark\, OH
SUMMARY:Soil & Water Board Meeting
END:VEVENT
END:VCALENDAR
