BEGIN:VCALENDAR
VERSION:2.0
PRODID:-//lickingswcd.com//NONSGML kigkonsult.se iCalcreator 2.30.10//
CALSCALE:GREGORIAN
METHOD:PUBLISH
UID:50e70f7d-8508-4f27-a3f0-be36db4e4eb3
X-WR-CALDESC:
X-WR-RELCALID:7e39a480805a78579db22aeafccca264
X-WR-TIMEZONE:America/New_York
BEGIN:VTIMEZONE
TZID:America/New_York
BEGIN:STANDARD
TZNAME:EST
DTSTART:20191103T020000
TZOFFSETFROM:-0400
TZOFFSETTO:-0500
RDATE:20201101T020000
RDATE:20211107T020000
END:STANDARD
BEGIN:DAYLIGHT
TZNAME:EDT
DTSTART:20200308T020000
TZOFFSETFROM:-0500
TZOFFSETTO:-0400
RDATE:20210314T020000
RDATE:20220313T020000
END:DAYLIGHT
END:VTIMEZONE
BEGIN:VEVENT
UID:9d87a6e6-bea8-491d-955e-c0fd49275cb3
DTSTAMP:20260424T075233Z
DESCRIPTION:
DTSTART;TZID=America/New_York:20201012T180000
DTEND;TZID=America/New_York:20201012T190000
LOCATION:Village of Hebron Municipal Complex\, 934 West Main Street\, Hebro
 n\, OH
SUMMARY:South Licking Conservancy District
END:VEVENT
END:VCALENDAR
