BEGIN:VCALENDAR
VERSION:2.0
PRODID:-//lickingswcd.com//NONSGML kigkonsult.se iCalcreator 2.30.10//
CALSCALE:GREGORIAN
METHOD:PUBLISH
UID:6b2b7c3b-0e5f-4e1b-8d99-b9a16c8e36a2
X-WR-CALDESC:
X-WR-RELCALID:aa8aa603d3926fb359523a3a23840ef4
X-WR-TIMEZONE:America/New_York
BEGIN:VTIMEZONE
TZID:America/New_York
BEGIN:STANDARD
TZNAME:EST
DTSTART:20191103T020000
TZOFFSETFROM:-0400
TZOFFSETTO:-0500
RDATE:20201101T020000
RDATE:20211107T020000
END:STANDARD
BEGIN:DAYLIGHT
TZNAME:EDT
DTSTART:20200308T020000
TZOFFSETFROM:-0500
TZOFFSETTO:-0400
RDATE:20210314T020000
RDATE:20220313T020000
END:DAYLIGHT
END:VTIMEZONE
BEGIN:VEVENT
UID:4cdd3db1-178a-4b74-8e9c-c595d5136242
DTSTAMP:20260424T081637Z
DESCRIPTION:
DTSTART;TZID=America/New_York:20201012T000000
DTEND;TZID=America/New_York:20201012T235900
LOCATION:
SUMMARY:Columbus Day- office closed
END:VEVENT
END:VCALENDAR
