BEGIN:VCALENDAR
VERSION:2.0
PRODID:-//lickingswcd.com//NONSGML kigkonsult.se iCalcreator 2.30.10//
CALSCALE:GREGORIAN
METHOD:PUBLISH
UID:a0852f70-85af-4097-a58f-08b56985a2df
X-WR-CALDESC:Landowners and residents of Licking County elect the governing
  body of Licking County Soil & Water Conservation District.  The governing
  body is referred to as the Board of Supervisors.  The election of Supervi
 sors is conducted by the Ohio Soil and Water Conservation Commission pursu
 ant to rules it adopts under Chapter 119 of the Revised Code.  The five pu
 blicly-elected members of the Board of Supervisors serve\, unpaid\, for th
 ree-year terms. \n\nThe five Supervisors represent our county's soil conse
 rvation and water conservation needs in rural\, suburban and urban setting
 s\, on farmland and in our backyards and public lands.  They voluntarily w
 ork with community members and organizations to encourage wise use of our 
 land and water.
X-WR-RELCALID:3466465242f4fe7765cacf0ce5691356
X-WR-TIMEZONE:America/New_York
BEGIN:VTIMEZONE
TZID:America/New_York
BEGIN:STANDARD
TZNAME:EST
DTSTART:20201101T020000
TZOFFSETFROM:-0400
TZOFFSETTO:-0500
RDATE:20211107T020000
END:STANDARD
BEGIN:DAYLIGHT
TZNAME:EDT
DTSTART:20200308T020000
TZOFFSETFROM:-0500
TZOFFSETTO:-0400
RDATE:20210314T020000
RDATE:20220313T020000
END:DAYLIGHT
END:VTIMEZONE
BEGIN:VEVENT
UID:7b578d80-cd95-4dbf-a68d-66a3500b98ca
DTSTAMP:20260424T100002Z
DESCRIPTION:Landowners and residents of Licking County elect the governing 
 body of Licking County Soil & Water Conservation District.  The governing 
 body is referred to as the Board of Supervisors.  The election of Supervis
 ors is conducted by the Ohio Soil and Water Conservation Commission pursua
 nt to rules it adopts under Chapter 119 of the Revised Code.  The five pub
 licly-elected members of the Board of Supervisors serve\, unpaid\, for thr
 ee-year terms. \n\nThe five Supervisors represent our county's soil conser
 vation and water conservation needs in rural\, suburban and urban settings
 \, on farmland and in our backyards and public lands.  They voluntarily wo
 rk with community members and organizations to encourage wise use of our l
 and and water.
DTSTART;TZID=America/New_York:20201104T000000
DTEND;TZID=America/New_York:20201118T235900
LOCATION:
SUMMARY:Board Election - Vote in the office
END:VEVENT
END:VCALENDAR
