BEGIN:VCALENDAR
VERSION:2.0
PRODID:-//lickingswcd.com//NONSGML kigkonsult.se iCalcreator 2.30.10//
CALSCALE:GREGORIAN
METHOD:PUBLISH
UID:49b1e70b-b1c9-4bf2-abaa-448f844e4b52
X-WR-CALDESC:
X-WR-RELCALID:01a8070fb0896981199d480949954943
X-WR-TIMEZONE:America/New_York
BEGIN:VTIMEZONE
TZID:America/New_York
BEGIN:STANDARD
TZNAME:EST
DTSTART:20201101T020000
TZOFFSETFROM:-0400
TZOFFSETTO:-0500
RDATE:20211107T020000
END:STANDARD
BEGIN:DAYLIGHT
TZNAME:EDT
DTSTART:20200308T020000
TZOFFSETFROM:-0500
TZOFFSETTO:-0400
RDATE:20210314T020000
RDATE:20220313T020000
END:DAYLIGHT
END:VTIMEZONE
BEGIN:VEVENT
UID:4148de98-4557-41bf-bfb6-686806f58446
DTSTAMP:20260424T101450Z
DESCRIPTION:
DTSTART;TZID=America/New_York:20201109T180000
DTEND;TZID=America/New_York:20201109T190000
LOCATION:Village of Hebron Municipal Complex\, 934 West Main Street\, Hebro
 n\, OH
SUMMARY:South Licking Conservancy District
END:VEVENT
END:VCALENDAR
