BEGIN:VCALENDAR
VERSION:2.0
PRODID:-//lickingswcd.com//NONSGML kigkonsult.se iCalcreator 2.30.10//
CALSCALE:GREGORIAN
METHOD:PUBLISH
UID:fa26042e-393e-4aef-9981-e2d4f0c5b67d
X-WR-CALDESC:The public is welcome to attend monthly Board meetings and ser
 ve on committees.  \n\nContact Soil & Water at 740-670-5330 for additional
  information.
X-WR-RELCALID:5220e415aa9d103669486d1d4e619585
X-WR-TIMEZONE:America/New_York
BEGIN:VTIMEZONE
TZID:America/New_York
BEGIN:STANDARD
TZNAME:EST
DTSTART:20201101T020000
TZOFFSETFROM:-0400
TZOFFSETTO:-0500
RDATE:20211107T020000
END:STANDARD
BEGIN:DAYLIGHT
TZNAME:EDT
DTSTART:20200308T020000
TZOFFSETFROM:-0500
TZOFFSETTO:-0400
RDATE:20210314T020000
RDATE:20220313T020000
END:DAYLIGHT
END:VTIMEZONE
BEGIN:VEVENT
UID:35dc73be-4d1f-4bf1-9276-64b72f83c651
DTSTAMP:20260424T100603Z
DESCRIPTION:The public is welcome to attend monthly Board meetings and serv
 e on committees.  \n\nContact Soil & Water at 740-670-5330 for additional 
 information.
DTSTART;TZID=America/New_York:20201123T163000
DTEND;TZID=America/New_York:20201123T180000
LOCATION:Ag Service Center\, 771 East Main Street\, Newark\, OH
SUMMARY:Soil & Water Board Meeting
END:VEVENT
END:VCALENDAR
