BEGIN:VCALENDAR
VERSION:2.0
PRODID:-//lickingswcd.com//NONSGML kigkonsult.se iCalcreator 2.30.10//
CALSCALE:GREGORIAN
METHOD:PUBLISH
UID:9a1d1b19-6a69-4556-a50d-eaec2ac9d839
X-WR-CALDESC:Register here:  https://ohionotillcouncil.com/2020/10/21/706/
 \n9:00     Welcome and Introductions:  Jan Layman\, President\, Ohio No-Ti
 ll Council\n9:05     Soil Health and Cover Crops: Effect on Environment\n 
                        Hans Kok\, Indiana Conservation Cropping Systems In
 itiative\n9:45   Managing Soil for Food and Climate (virtual\, live)\n    
                     Rattan Lal\, Soil Science Distinguished Professor\, OS
 U\n10:05   Panel Discussion – Moderator: Bill Richards\n                  
       Rattan Lal\, Fred Yoder\, and Hans Kok\n11:00   Break\n11:15   Soil 
 Health\, No-till and Cover Crops Panel   \n\n            David Brandt\, Ja
 n Layman
X-WR-RELCALID:a532382277118bc70ec3a91067e3883b
X-WR-TIMEZONE:America/New_York
BEGIN:VTIMEZONE
TZID:America/New_York
BEGIN:STANDARD
TZNAME:EST
DTSTART:20201101T020000
TZOFFSETFROM:-0400
TZOFFSETTO:-0500
RDATE:20211107T020000
END:STANDARD
BEGIN:DAYLIGHT
TZNAME:EDT
DTSTART:20200308T020000
TZOFFSETFROM:-0500
TZOFFSETTO:-0400
RDATE:20210314T020000
RDATE:20220313T020000
END:DAYLIGHT
END:VTIMEZONE
BEGIN:VEVENT
UID:7fcde732-ee90-45ba-911d-944bdfd2c0bf
DTSTAMP:20260424T120203Z
DESCRIPTION:Register here:  https://ohionotillcouncil.com/2020/10/21/706/\n
 9:00     Welcome and Introductions:  Jan Layman\, President\, Ohio No-Till
  Council\n9:05     Soil Health and Cover Crops: Effect on Environment\n   
                      Hans Kok\, Indiana Conservation Cropping Systems Init
 iative\n9:45   Managing Soil for Food and Climate (virtual\, live)\n      
                   Rattan Lal\, Soil Science Distinguished Professor\, OSU
 \n10:05   Panel Discussion – Moderator: Bill Richards\n                   
      Rattan Lal\, Fred Yoder\, and Hans Kok\n11:00   Break\n11:15   Soil H
 ealth\, No-till and Cover Crops Panel   \n\n            David Brandt\, Jan
  Layman
DTSTART;TZID=America/New_York:20201203T090000
DTEND;TZID=America/New_York:20201204T120000
LOCATION:Virtual
SUMMARY:Ohio No-till Conference
END:VEVENT
END:VCALENDAR
