BEGIN:VCALENDAR
VERSION:2.0
PRODID:-//lickingswcd.com//NONSGML kigkonsult.se iCalcreator 2.30.10//
CALSCALE:GREGORIAN
METHOD:PUBLISH
UID:92243020-5089-496b-9cca-f64687c3f88d
X-WR-CALDESC:This is the last day to submit a poster for the 2021 River Rou
 nd Up Poster Contest!
X-WR-RELCALID:56917adb182b31504e719f58eabb8d3a
X-WR-TIMEZONE:America/New_York
BEGIN:VTIMEZONE
TZID:America/New_York
BEGIN:STANDARD
TZNAME:EST
DTSTART:20201101T020000
TZOFFSETFROM:-0400
TZOFFSETTO:-0500
RDATE:20211107T020000
END:STANDARD
BEGIN:DAYLIGHT
TZNAME:EDT
DTSTART:20210314T020000
TZOFFSETFROM:-0500
TZOFFSETTO:-0400
RDATE:20220313T020000
END:DAYLIGHT
END:VTIMEZONE
BEGIN:VEVENT
UID:0aaf86a1-36e0-49eb-81fd-a594ef21bcb2
DTSTAMP:20260424T201923Z
DESCRIPTION:This is the last day to submit a poster for the 2021 River Roun
 d Up Poster Contest!
DTSTART;TZID=America/New_York:20210416T000000
DTEND;TZID=America/New_York:20210416T235900
LOCATION:
SUMMARY:Last Day for RRUp Poster Contest!
END:VEVENT
END:VCALENDAR
