BEGIN:VCALENDAR
VERSION:2.0
PRODID:-//lickingswcd.com//NONSGML kigkonsult.se iCalcreator 2.30.10//
CALSCALE:GREGORIAN
METHOD:PUBLISH
UID:db79f032-de80-4729-b5a8-a487894a0f0b
X-WR-CALDESC:
X-WR-RELCALID:118de0e210c9f85874ac86230cb277b7
X-WR-TIMEZONE:America/New_York
BEGIN:VTIMEZONE
TZID:America/New_York
BEGIN:STANDARD
TZNAME:EST
DTSTART:20201101T020000
TZOFFSETFROM:-0400
TZOFFSETTO:-0500
RDATE:20211107T020000
RDATE:20221106T020000
END:STANDARD
BEGIN:DAYLIGHT
TZNAME:EDT
DTSTART:20210314T020000
TZOFFSETFROM:-0500
TZOFFSETTO:-0400
RDATE:20220313T020000
END:DAYLIGHT
END:VTIMEZONE
BEGIN:VEVENT
UID:ab9a03c7-0704-46c9-9331-3c6b598e1a4f
DTSTAMP:20260424T220713Z
DESCRIPTION:
DTSTART;TZID=America/New_York:20210509T000000
DTEND;TZID=America/New_York:20210509T235900
LOCATION:
SUMMARY:Mother's Day
END:VEVENT
END:VCALENDAR
