BEGIN:VCALENDAR
VERSION:2.0
PRODID:-//lickingswcd.com//NONSGML kigkonsult.se iCalcreator 2.30.10//
CALSCALE:GREGORIAN
METHOD:PUBLISH
UID:77fef2fe-1b62-467f-baf7-40e6a783d902
X-WR-CALDESC:
X-WR-RELCALID:d26d027e283e44d703195518a326eb06
X-WR-TIMEZONE:America/New_York
BEGIN:VTIMEZONE
TZID:America/New_York
BEGIN:STANDARD
TZNAME:EST
DTSTART:20201101T020000
TZOFFSETFROM:-0400
TZOFFSETTO:-0500
RDATE:20211107T020000
RDATE:20221106T020000
END:STANDARD
BEGIN:DAYLIGHT
TZNAME:EDT
DTSTART:20210314T020000
TZOFFSETFROM:-0500
TZOFFSETTO:-0400
RDATE:20220313T020000
END:DAYLIGHT
END:VTIMEZONE
BEGIN:VEVENT
UID:ed495f8b-c9da-4e27-9c20-23b67ca82b9c
DTSTAMP:20260424T220450Z
DESCRIPTION:
DTSTART;TZID=America/New_York:20210521T000000
DTEND;TZID=America/New_York:20210521T235900
LOCATION:
SUMMARY:Endangered Species Day
END:VEVENT
END:VCALENDAR
