BEGIN:VCALENDAR
VERSION:2.0
PRODID:-//lickingswcd.com//NONSGML kigkonsult.se iCalcreator 2.30.10//
CALSCALE:GREGORIAN
METHOD:PUBLISH
UID:b948c696-24d6-4c86-b303-c395ea6a718d
X-WR-CALDESC:
X-WR-RELCALID:648b3cf233c71fb5fa256479816f28d7
X-WR-TIMEZONE:America/New_York
BEGIN:VTIMEZONE
TZID:America/New_York
BEGIN:STANDARD
TZNAME:EST
DTSTART:20201101T020000
TZOFFSETFROM:-0400
TZOFFSETTO:-0500
RDATE:20211107T020000
RDATE:20221106T020000
END:STANDARD
BEGIN:DAYLIGHT
TZNAME:EDT
DTSTART:20210314T020000
TZOFFSETFROM:-0500
TZOFFSETTO:-0400
RDATE:20220313T020000
END:DAYLIGHT
END:VTIMEZONE
BEGIN:VEVENT
UID:b72e50dc-7829-4a0e-91c1-07bc57af5f05
DTSTAMP:20260424T234928Z
DESCRIPTION:
DTSTART;TZID=America/New_York:20210523T000000
DTEND;TZID=America/New_York:20210523T235900
LOCATION:
SUMMARY:World Turtle Day
END:VEVENT
END:VCALENDAR
