BEGIN:VCALENDAR
VERSION:2.0
PRODID:-//lickingswcd.com//NONSGML kigkonsult.se iCalcreator 2.30.10//
CALSCALE:GREGORIAN
METHOD:PUBLISH
UID:88d9f4ae-5f16-484d-b5cf-391053f7459f
X-WR-CALDESC:
X-WR-RELCALID:40e30bfbb6009cbb7c03e730b670e9cf
X-WR-TIMEZONE:America/New_York
BEGIN:VTIMEZONE
TZID:America/New_York
BEGIN:STANDARD
TZNAME:EST
DTSTART:20201101T020000
TZOFFSETFROM:-0400
TZOFFSETTO:-0500
RDATE:20211107T020000
RDATE:20221106T020000
END:STANDARD
BEGIN:DAYLIGHT
TZNAME:EDT
DTSTART:20210314T020000
TZOFFSETFROM:-0500
TZOFFSETTO:-0400
RDATE:20220313T020000
END:DAYLIGHT
END:VTIMEZONE
BEGIN:VEVENT
UID:96a2c28d-07ba-4633-8f52-1a46ead6108d
DTSTAMP:20260424T220608Z
DESCRIPTION:
DTSTART;TZID=America/New_York:20210531T000000
DTEND;TZID=America/New_York:20210531T235900
LOCATION:
SUMMARY:Memorial Day
END:VEVENT
END:VCALENDAR
