BEGIN:VCALENDAR
VERSION:2.0
PRODID:-//lickingswcd.com//NONSGML kigkonsult.se iCalcreator 2.30.10//
CALSCALE:GREGORIAN
METHOD:PUBLISH
UID:16bb6e20-71a7-4754-9e54-6fe4e0d3d4b5
X-WR-CALDESC:
X-WR-RELCALID:313eab8f6432c660d781db1525442e08
X-WR-TIMEZONE:America/New_York
BEGIN:VTIMEZONE
TZID:America/New_York
BEGIN:STANDARD
TZNAME:EST
DTSTART:20201101T020000
TZOFFSETFROM:-0400
TZOFFSETTO:-0500
RDATE:20211107T020000
RDATE:20221106T020000
END:STANDARD
BEGIN:DAYLIGHT
TZNAME:EDT
DTSTART:20210314T020000
TZOFFSETFROM:-0500
TZOFFSETTO:-0400
RDATE:20220313T020000
END:DAYLIGHT
END:VTIMEZONE
BEGIN:VEVENT
UID:d0dbc66a-e98e-4f31-af2f-56b2a90eddc0
DTSTAMP:20260425T001122Z
DESCRIPTION:
DTSTART;TZID=America/New_York:20210605T000000
DTEND;TZID=America/New_York:20210605T235900
LOCATION:
SUMMARY:National Trails Day
END:VEVENT
END:VCALENDAR
