BEGIN:VCALENDAR
VERSION:2.0
PRODID:-//lickingswcd.com//NONSGML kigkonsult.se iCalcreator 2.30.10//
CALSCALE:GREGORIAN
METHOD:PUBLISH
UID:ecdbbdc1-f5c5-4952-86df-c4df8abcd669
X-WR-CALDESC:
X-WR-RELCALID:76e86eeb6ec40980db1a528b2e36a57c
X-WR-TIMEZONE:America/New_York
BEGIN:VTIMEZONE
TZID:America/New_York
BEGIN:STANDARD
TZNAME:EST
DTSTART:20201101T020000
TZOFFSETFROM:-0400
TZOFFSETTO:-0500
RDATE:20211107T020000
RDATE:20221106T020000
END:STANDARD
BEGIN:DAYLIGHT
TZNAME:EDT
DTSTART:20210314T020000
TZOFFSETFROM:-0500
TZOFFSETTO:-0400
RDATE:20220313T020000
END:DAYLIGHT
END:VTIMEZONE
BEGIN:VEVENT
UID:4684c4bb-c8b4-472e-9dbd-a7d48f631101
DTSTAMP:20260424T234418Z
DESCRIPTION:
DTSTART;TZID=America/New_York:20210619T000000
DTEND;TZID=America/New_York:20210619T235900
LOCATION:
SUMMARY:Juneteenth
END:VEVENT
END:VCALENDAR
