BEGIN:VCALENDAR
VERSION:2.0
PRODID:-//lickingswcd.com//NONSGML kigkonsult.se iCalcreator 2.30.10//
CALSCALE:GREGORIAN
METHOD:PUBLISH
UID:becba06b-f05e-433c-9c3f-ddb96c2579fa
X-WR-CALDESC:
X-WR-RELCALID:8918f6c11b907c0cd7866b5b1d4bdd7b
X-WR-TIMEZONE:America/New_York
BEGIN:VTIMEZONE
TZID:America/New_York
BEGIN:STANDARD
TZNAME:EST
DTSTART:20201101T020000
TZOFFSETFROM:-0400
TZOFFSETTO:-0500
RDATE:20211107T020000
RDATE:20221106T020000
END:STANDARD
BEGIN:DAYLIGHT
TZNAME:EDT
DTSTART:20210314T020000
TZOFFSETFROM:-0500
TZOFFSETTO:-0400
RDATE:20220313T020000
END:DAYLIGHT
END:VTIMEZONE
BEGIN:VEVENT
UID:ff9de2b3-1f31-4dd1-89ad-4a9251b937b9
DTSTAMP:20260425T014227Z
DESCRIPTION:
DTSTART;TZID=America/New_York:20210704T000000
DTEND;TZID=America/New_York:20210704T235900
LOCATION:
SUMMARY:Independence Day
END:VEVENT
END:VCALENDAR
