BEGIN:VCALENDAR
VERSION:2.0
PRODID:-//lickingswcd.com//NONSGML kigkonsult.se iCalcreator 2.30.10//
CALSCALE:GREGORIAN
METHOD:PUBLISH
UID:801d71a7-678f-40ac-9094-08bc6f741dcf
X-WR-CALDESC:
X-WR-RELCALID:7bddf51d2434dda98adb689479c1f845
X-WR-TIMEZONE:America/New_York
BEGIN:VTIMEZONE
TZID:America/New_York
BEGIN:STANDARD
TZNAME:EST
DTSTART:20201101T020000
TZOFFSETFROM:-0400
TZOFFSETTO:-0500
RDATE:20211107T020000
RDATE:20221106T020000
END:STANDARD
BEGIN:DAYLIGHT
TZNAME:EDT
DTSTART:20210314T020000
TZOFFSETFROM:-0500
TZOFFSETTO:-0400
RDATE:20220313T020000
END:DAYLIGHT
END:VTIMEZONE
BEGIN:VEVENT
UID:cd14fb2c-6d4f-48c1-a0e3-79b740d8094e
DTSTAMP:20260425T015311Z
DESCRIPTION:
DTSTART;TZID=America/New_York:20210705T100000
DTEND;TZID=America/New_York:20210705T110000
LOCATION:
SUMMARY:Granville 4th of July Parade
END:VEVENT
END:VCALENDAR
