BEGIN:VCALENDAR
VERSION:2.0
PRODID:-//lickingswcd.com//NONSGML kigkonsult.se iCalcreator 2.30.10//
CALSCALE:GREGORIAN
METHOD:PUBLISH
UID:ec8debb9-2c8f-45fb-9938-3e1b0be7dbe8
X-WR-CALDESC:
X-WR-RELCALID:820552ede094b65f65c6f981af8d11c4
X-WR-TIMEZONE:America/New_York
BEGIN:VTIMEZONE
TZID:America/New_York
BEGIN:STANDARD
TZNAME:EST
DTSTART:20201101T020000
TZOFFSETFROM:-0400
TZOFFSETTO:-0500
RDATE:20211107T020000
RDATE:20221106T020000
END:STANDARD
BEGIN:DAYLIGHT
TZNAME:EDT
DTSTART:20210314T020000
TZOFFSETFROM:-0500
TZOFFSETTO:-0400
RDATE:20220313T020000
END:DAYLIGHT
END:VTIMEZONE
BEGIN:VEVENT
UID:80acd0d0-7c04-4738-aff0-18eb765d6268
DTSTAMP:20260425T032241Z
DESCRIPTION:
DTSTART;TZID=America/New_York:20210820T103000
DTEND;TZID=America/New_York:20210820T163000
LOCATION:
SUMMARY:River Round Up Preview
END:VEVENT
END:VCALENDAR
