BEGIN:VCALENDAR
VERSION:2.0
PRODID:-//lickingswcd.com//NONSGML kigkonsult.se iCalcreator 2.30.10//
CALSCALE:GREGORIAN
METHOD:PUBLISH
UID:0d57216e-2f20-4696-9fea-4c15a6657b5e
X-WR-CALDESC:
X-WR-RELCALID:5327853d13e7774bf2709e561f4a0acb
X-WR-TIMEZONE:America/New_York
BEGIN:VTIMEZONE
TZID:America/New_York
BEGIN:STANDARD
TZNAME:EST
DTSTART:20211107T020000
TZOFFSETFROM:-0400
TZOFFSETTO:-0500
RDATE:20221106T020000
END:STANDARD
BEGIN:DAYLIGHT
TZNAME:EDT
DTSTART:20210314T020000
TZOFFSETFROM:-0500
TZOFFSETTO:-0400
RDATE:20220313T020000
RDATE:20230312T020000
END:DAYLIGHT
END:VTIMEZONE
BEGIN:VEVENT
UID:5561aed5-2bf4-407d-9295-37ceeb8ec8f4
DTSTAMP:20260425T110706Z
DESCRIPTION:
DTSTART;TZID=America/New_York:20211204T000000
DTEND;TZID=America/New_York:20211204T235900
LOCATION:
SUMMARY:Wildlife Conservation Day
END:VEVENT
END:VCALENDAR
