BEGIN:VCALENDAR
VERSION:2.0
PRODID:-//lickingswcd.com//NONSGML kigkonsult.se iCalcreator 2.30.10//
CALSCALE:GREGORIAN
METHOD:PUBLISH
UID:8a7d503a-2900-4059-90d8-7b7d42cd1af0
X-WR-CALDESC:
X-WR-RELCALID:a52f802a0b995b01e2ee2bafbf1ee2a4
X-WR-TIMEZONE:America/New_York
BEGIN:VTIMEZONE
TZID:America/New_York
BEGIN:STANDARD
TZNAME:EST
DTSTART:20211107T020000
TZOFFSETFROM:-0400
TZOFFSETTO:-0500
RDATE:20221106T020000
END:STANDARD
BEGIN:DAYLIGHT
TZNAME:EDT
DTSTART:20210314T020000
TZOFFSETFROM:-0500
TZOFFSETTO:-0400
RDATE:20220313T020000
RDATE:20230312T020000
END:DAYLIGHT
END:VTIMEZONE
BEGIN:VEVENT
UID:48128860-591f-4d34-a9da-b73f9a672fcd
DTSTAMP:20260425T110646Z
DESCRIPTION:
DTSTART;TZID=America/New_York:20211205T000000
DTEND;TZID=America/New_York:20211205T235900
LOCATION:
SUMMARY:World Soil Day
END:VEVENT
END:VCALENDAR
