BEGIN:VCALENDAR
VERSION:2.0
PRODID:-//lickingswcd.com//NONSGML kigkonsult.se iCalcreator 2.30.10//
CALSCALE:GREGORIAN
METHOD:PUBLISH
UID:e38ade09-8dc4-498f-aada-3f14ab88e548
X-WR-CALDESC:
X-WR-RELCALID:cf9b91e577d3fa83e3f0841f90c2f6a8
X-WR-TIMEZONE:America/New_York
BEGIN:VTIMEZONE
TZID:America/New_York
BEGIN:STANDARD
TZNAME:EST
DTSTART:20211107T020000
TZOFFSETFROM:-0400
TZOFFSETTO:-0500
RDATE:20221106T020000
END:STANDARD
BEGIN:DAYLIGHT
TZNAME:EDT
DTSTART:20210314T020000
TZOFFSETFROM:-0500
TZOFFSETTO:-0400
RDATE:20220313T020000
RDATE:20230312T020000
END:DAYLIGHT
END:VTIMEZONE
BEGIN:VEVENT
UID:c450aab7-8e0b-4313-9b3b-aa049a1e86c5
DTSTAMP:20260425T125832Z
DESCRIPTION:
DTSTART;TZID=America/New_York:20220105T000000
DTEND;TZID=America/New_York:20220105T235900
LOCATION:
SUMMARY:Energy Efficiency Day
END:VEVENT
END:VCALENDAR
