BEGIN:VCALENDAR
VERSION:2.0
PRODID:-//lickingswcd.com//NONSGML kigkonsult.se iCalcreator 2.30.10//
CALSCALE:GREGORIAN
METHOD:PUBLISH
UID:7e5adbb8-9eef-426a-bf72-c33a9a2915bd
X-WR-CALDESC:
X-WR-RELCALID:ba45d6f3dcbc3dc9dc7043feeb461504
X-WR-TIMEZONE:America/New_York
BEGIN:VTIMEZONE
TZID:America/New_York
BEGIN:STANDARD
TZNAME:EST
DTSTART:20211107T020000
TZOFFSETFROM:-0400
TZOFFSETTO:-0500
RDATE:20221106T020000
END:STANDARD
BEGIN:DAYLIGHT
TZNAME:EDT
DTSTART:20210314T020000
TZOFFSETFROM:-0500
TZOFFSETTO:-0400
RDATE:20220313T020000
RDATE:20230312T020000
END:DAYLIGHT
END:VTIMEZONE
BEGIN:VEVENT
UID:1e865f77-2234-4c58-9cd2-888098b884e1
DTSTAMP:20260425T130038Z
DESCRIPTION:
DTSTART;TZID=America/New_York:20220118T090000
DTEND;TZID=America/New_York:20220118T100000
LOCATION:
SUMMARY:Curious Kids Program at The Works
END:VEVENT
END:VCALENDAR
