BEGIN:VCALENDAR
VERSION:2.0
PRODID:-//lickingswcd.com//NONSGML kigkonsult.se iCalcreator 2.30.10//
CALSCALE:GREGORIAN
METHOD:PUBLISH
UID:ca109f9e-f604-443c-b37c-5756adf52e60
X-WR-CALDESC:
X-WR-RELCALID:dc89681a52458bad6b3ef2a05d4af5c1
X-WR-TIMEZONE:America/New_York
BEGIN:VTIMEZONE
TZID:America/New_York
BEGIN:STANDARD
TZNAME:EST
DTSTART:20211107T020000
TZOFFSETFROM:-0400
TZOFFSETTO:-0500
RDATE:20221106T020000
END:STANDARD
BEGIN:DAYLIGHT
TZNAME:EDT
DTSTART:20210314T020000
TZOFFSETFROM:-0500
TZOFFSETTO:-0400
RDATE:20220313T020000
RDATE:20230312T020000
END:DAYLIGHT
END:VTIMEZONE
BEGIN:VEVENT
UID:396ee4f0-34e1-4976-84c2-41d7a71ff6e9
DTSTAMP:20260425T130808Z
DESCRIPTION:
DTSTART;TZID=America/New_York:20220119T163000
DTEND;TZID=America/New_York:20220119T183000
LOCATION:
SUMMARY:Board of Supervisors Monthly Meeting
END:VEVENT
END:VCALENDAR
