BEGIN:VCALENDAR
VERSION:2.0
PRODID:-//lickingswcd.com//NONSGML kigkonsult.se iCalcreator 2.30.10//
CALSCALE:GREGORIAN
METHOD:PUBLISH
UID:da5d8d5a-dd6c-4a56-928e-675ea25cebcc
X-WR-CALDESC:
X-WR-RELCALID:d481cccfd1a10d9c9965d51132067fe7
X-WR-TIMEZONE:America/New_York
BEGIN:VTIMEZONE
TZID:America/New_York
BEGIN:STANDARD
TZNAME:EST
DTSTART:20211107T020000
TZOFFSETFROM:-0400
TZOFFSETTO:-0500
RDATE:20221106T020000
END:STANDARD
BEGIN:DAYLIGHT
TZNAME:EDT
DTSTART:20210314T020000
TZOFFSETFROM:-0500
TZOFFSETTO:-0400
RDATE:20220313T020000
RDATE:20230312T020000
END:DAYLIGHT
END:VTIMEZONE
BEGIN:VEVENT
UID:1b3e37ab-d58c-4675-8ef4-e9842b998357
DTSTAMP:20260425T151048Z
DESCRIPTION:
DTSTART;TZID=America/New_York:20220209T090000
DTEND;TZID=America/New_York:20220209T110000
LOCATION:
SUMMARY:MS4 Consortium Meeting
END:VEVENT
END:VCALENDAR
