BEGIN:VCALENDAR
VERSION:2.0
PRODID:-//lickingswcd.com//NONSGML kigkonsult.se iCalcreator 2.30.10//
CALSCALE:GREGORIAN
METHOD:PUBLISH
UID:297aec45-fb4f-4df0-a868-c78313cb8f12
X-WR-CALDESC:We are thrilled to be back at C-TEC for the annual Farmer's Sh
 are Breakfast! Stop in for breakfast and make a donation to Licking County
  4-H Camp. Our goal is to reduce the cost of 4-H Camp for every camper and
  provide scholarships for those who need additional assistance. Together w
 e can enjoy a great meal and support our future leaders!
X-WR-RELCALID:35ad02cf0b1de17e9fcf44840718591f
X-WR-TIMEZONE:America/New_York
BEGIN:VTIMEZONE
TZID:America/New_York
BEGIN:STANDARD
TZNAME:EST
DTSTART:20211107T020000
TZOFFSETFROM:-0400
TZOFFSETTO:-0500
RDATE:20221106T020000
END:STANDARD
BEGIN:DAYLIGHT
TZNAME:EDT
DTSTART:20210314T020000
TZOFFSETFROM:-0500
TZOFFSETTO:-0400
RDATE:20220313T020000
RDATE:20230312T020000
END:DAYLIGHT
END:VTIMEZONE
BEGIN:VEVENT
UID:e446c74d-9996-4d16-bbfc-a5840a6e8ce5
DTSTAMP:20260425T151037Z
DESCRIPTION:We are thrilled to be back at C-TEC for the annual Farmer's Sha
 re Breakfast! Stop in for breakfast and make a donation to Licking County 
 4-H Camp. Our goal is to reduce the cost of 4-H Camp for every camper and 
 provide scholarships for those who need additional assistance. Together we
  can enjoy a great meal and support our future leaders!
DTSTART;TZID=America/New_York:20220226T070000
DTEND;TZID=America/New_York:20220226T110000
LOCATION:
SUMMARY:Farmers Share Breakfast 2022
END:VEVENT
END:VCALENDAR
