BEGIN:VCALENDAR
VERSION:2.0
PRODID:-//lickingswcd.com//NONSGML kigkonsult.se iCalcreator 2.30.10//
CALSCALE:GREGORIAN
METHOD:PUBLISH
UID:0fe0de3d-6fa9-4546-9f02-1952a28a0a00
X-WR-CALDESC:
X-WR-RELCALID:8bb2b953235914de50e355d4cb9cb317
X-WR-TIMEZONE:America/New_York
BEGIN:VTIMEZONE
TZID:America/New_York
BEGIN:STANDARD
TZNAME:EST
DTSTART:20211107T020000
TZOFFSETFROM:-0400
TZOFFSETTO:-0500
RDATE:20221106T020000
END:STANDARD
BEGIN:DAYLIGHT
TZNAME:EDT
DTSTART:20210314T020000
TZOFFSETFROM:-0500
TZOFFSETTO:-0400
RDATE:20220313T020000
RDATE:20230312T020000
END:DAYLIGHT
END:VTIMEZONE
BEGIN:VEVENT
UID:ec7625a8-a7ba-4cc1-9865-7f3651138ecf
DTSTAMP:20260425T160705Z
DESCRIPTION:
DTSTART;TZID=America/New_York:20220309T100000
DTEND;TZID=America/New_York:20220309T120000
LOCATION:
SUMMARY:OCVN Class
END:VEVENT
END:VCALENDAR
