BEGIN:VCALENDAR
VERSION:2.0
PRODID:-//lickingswcd.com//NONSGML kigkonsult.se iCalcreator 2.30.10//
CALSCALE:GREGORIAN
METHOD:PUBLISH
UID:de1c6953-ebec-4634-b51d-2d2afdca1b35
X-WR-CALDESC:
X-WR-RELCALID:62bc7c25189e4e89e9ead666a04bd71c
X-WR-TIMEZONE:America/New_York
BEGIN:VTIMEZONE
TZID:America/New_York
BEGIN:STANDARD
TZNAME:EST
DTSTART:20211107T020000
TZOFFSETFROM:-0400
TZOFFSETTO:-0500
RDATE:20221106T020000
END:STANDARD
BEGIN:DAYLIGHT
TZNAME:EDT
DTSTART:20210314T020000
TZOFFSETFROM:-0500
TZOFFSETTO:-0400
RDATE:20220313T020000
RDATE:20230312T020000
END:DAYLIGHT
END:VTIMEZONE
BEGIN:VEVENT
UID:3afd0ab8-dc80-4e23-9fbb-26ee42c1c4d2
DTSTAMP:20260425T161448Z
DESCRIPTION:
DTSTART;TZID=America/New_York:20220312T080000
DTEND;TZID=America/New_York:20220313T153000
LOCATION:Mansfield OSU Campus in Ovalwood Hall
SUMMARY:Mid-Ohio Small Farm Conference
END:VEVENT
END:VCALENDAR
