BEGIN:VCALENDAR
VERSION:2.0
PRODID:-//lickingswcd.com//NONSGML kigkonsult.se iCalcreator 2.30.10//
CALSCALE:GREGORIAN
METHOD:PUBLISH
UID:33e40c2f-48da-4e05-9a60-1bdc217c3c75
X-WR-CALDESC:
X-WR-RELCALID:eee0f75dba24b09ba7550a82eb00c4a8
X-WR-TIMEZONE:America/New_York
BEGIN:VTIMEZONE
TZID:America/New_York
BEGIN:STANDARD
TZNAME:EST
DTSTART:20211107T020000
TZOFFSETFROM:-0400
TZOFFSETTO:-0500
RDATE:20221106T020000
END:STANDARD
BEGIN:DAYLIGHT
TZNAME:EDT
DTSTART:20220313T020000
TZOFFSETFROM:-0500
TZOFFSETTO:-0400
RDATE:20230312T020000
END:DAYLIGHT
END:VTIMEZONE
BEGIN:VEVENT
UID:ab400485-e4bb-4c65-91ea-8a2a9d7ea5c0
DTSTAMP:20260425T160920Z
DESCRIPTION:
DTSTART;TZID=America/New_York:20220317T000000
DTEND;TZID=America/New_York:20220317T235900
LOCATION:
SUMMARY:St Patrick's Day
END:VEVENT
END:VCALENDAR
