BEGIN:VCALENDAR
VERSION:2.0
PRODID:-//lickingswcd.com//NONSGML kigkonsult.se iCalcreator 2.30.10//
CALSCALE:GREGORIAN
METHOD:PUBLISH
UID:507b64d8-c05d-43d9-a9f7-35beb339b34e
X-WR-CALDESC:
X-WR-RELCALID:79a1594ef661ee57f0cce90815653322
X-WR-TIMEZONE:America/New_York
BEGIN:VTIMEZONE
TZID:America/New_York
BEGIN:STANDARD
TZNAME:EST
DTSTART:20211107T020000
TZOFFSETFROM:-0400
TZOFFSETTO:-0500
RDATE:20221106T020000
END:STANDARD
BEGIN:DAYLIGHT
TZNAME:EDT
DTSTART:20220313T020000
TZOFFSETFROM:-0500
TZOFFSETTO:-0400
RDATE:20230312T020000
END:DAYLIGHT
END:VTIMEZONE
BEGIN:VEVENT
UID:88c48651-e676-47f4-ab66-168fdd84dc1c
DTSTAMP:20260425T160900Z
DESCRIPTION:
DTSTART;TZID=America/New_York:20220318T000000
DTEND;TZID=America/New_York:20220318T235900
LOCATION:
SUMMARY:District 8 Science Fair
END:VEVENT
END:VCALENDAR
