BEGIN:VCALENDAR
VERSION:2.0
PRODID:-//lickingswcd.com//NONSGML kigkonsult.se iCalcreator 2.30.10//
CALSCALE:GREGORIAN
METHOD:PUBLISH
UID:0f6c6366-b6ab-4668-939b-e98be41ff5d4
X-WR-CALDESC:
X-WR-RELCALID:182b0c644f4e3cb630a67db2b558c7f6
X-WR-TIMEZONE:America/New_York
BEGIN:VTIMEZONE
TZID:America/New_York
BEGIN:STANDARD
TZNAME:EST
DTSTART:20211107T020000
TZOFFSETFROM:-0400
TZOFFSETTO:-0500
RDATE:20221106T020000
END:STANDARD
BEGIN:DAYLIGHT
TZNAME:EDT
DTSTART:20220313T020000
TZOFFSETFROM:-0500
TZOFFSETTO:-0400
RDATE:20230312T020000
END:DAYLIGHT
END:VTIMEZONE
BEGIN:VEVENT
UID:70aa80ec-2db8-4ad6-b8c0-891810503f1b
DTSTAMP:20260425T161803Z
DESCRIPTION:
DTSTART;TZID=America/New_York:20220321T000000
DTEND;TZID=America/New_York:20220321T235900
LOCATION:
SUMMARY:International Day of Forests
END:VEVENT
END:VCALENDAR
