BEGIN:VCALENDAR
VERSION:2.0
PRODID:-//lickingswcd.com//NONSGML kigkonsult.se iCalcreator 2.30.10//
CALSCALE:GREGORIAN
METHOD:PUBLISH
UID:9f8d3a75-89ae-4afd-a66d-270721c5d94b
X-WR-CALDESC:
X-WR-RELCALID:28d74b1d04ea311e39bc71ad84f1ca21
X-WR-TIMEZONE:America/New_York
BEGIN:VTIMEZONE
TZID:America/New_York
BEGIN:STANDARD
TZNAME:EST
DTSTART:20211107T020000
TZOFFSETFROM:-0400
TZOFFSETTO:-0500
RDATE:20221106T020000
END:STANDARD
BEGIN:DAYLIGHT
TZNAME:EDT
DTSTART:20220313T020000
TZOFFSETFROM:-0500
TZOFFSETTO:-0400
RDATE:20230312T020000
END:DAYLIGHT
END:VTIMEZONE
BEGIN:VEVENT
UID:6e021e34-40e8-40b9-b05e-10822aeb7418
DTSTAMP:20260425T161209Z
DESCRIPTION:
DTSTART;TZID=America/New_York:20220321T000000
DTEND;TZID=America/New_York:20220321T235900
LOCATION:
SUMMARY:Last Day for Tree Sale Orders
END:VEVENT
END:VCALENDAR
