BEGIN:VCALENDAR
VERSION:2.0
PRODID:-//lickingswcd.com//NONSGML kigkonsult.se iCalcreator 2.30.10//
CALSCALE:GREGORIAN
METHOD:PUBLISH
UID:fbead425-088a-4919-97e4-a37dd8a5555f
X-WR-CALDESC:9:00 – 9:30 Registration\n\n9:30-9:45 am– Cody Brown Introduct
 ion \n	\n9:45-10:30am-John Kehn ODNR Div of Forestry\n	      Call before you
  cut Program and Invasive ID\n\n10:30-11:15am-Vince Untied Licking Co Audi
 tors Office\n	      CAUV Woodland Management Requirements\n\n11:15a-12:00p 
 – Robert Mulligan ODNR Div Of Forestry \n                 Logging BMP’s an
 d Timber Harvest Plans\n\n12:00-12:45pm – Phil Kehn Licking Co Trapper\n  
                  Woodland Trapping\n\nDress appropriately for this rain or
  shine outdoor session. \nBring a folding chair.  \nDonuts\, snacks and dr
 inks will be provided.  \n\nRSVP for planning purposes by April 12\, 2023
 \nhttps://forms.gle/mvu8PFGUuE5QpReL8\nCall - 740-670-5330\n\n
X-WR-RELCALID:3886dc12ac651176e4325c738447b36b
X-WR-TIMEZONE:America/New_York
BEGIN:VTIMEZONE
TZID:America/New_York
BEGIN:STANDARD
TZNAME:EST
DTSTART:20221106T020000
TZOFFSETFROM:-0400
TZOFFSETTO:-0500
RDATE:20231105T020000
END:STANDARD
BEGIN:DAYLIGHT
TZNAME:EDT
DTSTART:20230312T020000
TZOFFSETFROM:-0500
TZOFFSETTO:-0400
RDATE:20240310T020000
END:DAYLIGHT
END:VTIMEZONE
BEGIN:VEVENT
UID:1f8685a1-f351-495b-8757-1f7d0277fa22
DTSTAMP:20260422T200512Z
DESCRIPTION:9:00 – 9:30 Registration\n\n9:30-9:45 am– Cody Brown Introducti
 on \n	\n9:45-10:30am-John Kehn ODNR Div of Forestry\n	      Call before you 
 cut Program and Invasive ID\n\n10:30-11:15am-Vince Untied Licking Co Audit
 ors Office\n	      CAUV Woodland Management Requirements\n\n11:15a-12:00p –
  Robert Mulligan ODNR Div Of Forestry \n                 Logging BMP’s and
  Timber Harvest Plans\n\n12:00-12:45pm – Phil Kehn Licking Co Trapper\n   
                 Woodland Trapping\n\nDress appropriately for this rain or 
 shine outdoor session. \nBring a folding chair.  \nDonuts\, snacks and dri
 nks will be provided.  \n\nRSVP for planning purposes by April 12\, 2023\n
 https://forms.gle/mvu8PFGUuE5QpReL8\nCall - 740-670-5330\n\n
DTSTART;TZID=America/New_York:20230415T090000
DTEND;TZID=America/New_York:20230415T130000
LOCATION:Cody Brown Property 3411 Montgomery Road Newark\, OH 43055
SUMMARY:Forestry Field Day
END:VEVENT
END:VCALENDAR
