BEGIN:VCALENDAR
VERSION:2.0
PRODID:-//lickingswcd.com//NONSGML kigkonsult.se iCalcreator 2.30.10//
CALSCALE:GREGORIAN
METHOD:PUBLISH
UID:99ce14d3-3211-4015-beb6-02b954714fd1
X-WR-CALDESC:
X-WR-RELCALID:010f8da7ab9ce05bb110356178db3cef
X-WR-TIMEZONE:America/New_York
BEGIN:VTIMEZONE
TZID:America/New_York
BEGIN:STANDARD
TZNAME:EST
DTSTART:20251102T020000
TZOFFSETFROM:-0400
TZOFFSETTO:-0500
RDATE:20261101T020000
END:STANDARD
BEGIN:DAYLIGHT
TZNAME:EDT
DTSTART:20260308T020000
TZOFFSETFROM:-0500
TZOFFSETTO:-0400
RDATE:20270314T020000
END:DAYLIGHT
END:VTIMEZONE
BEGIN:VEVENT
UID:30a69b8d-3969-4f70-969c-6983ee1bdd57
DTSTAMP:20260422T140335Z
DESCRIPTION:
DTSTART;TZID=America/New_York:20260413T130000
DTEND;TZID=America/New_York:20260413T160000
LOCATION:771 E Main St\, Newark\, OH 43055 US
SUMMARY:Tree Store Open
END:VEVENT
END:VCALENDAR
