BEGIN:VCALENDAR
VERSION:2.0
PRODID:-//lickingswcd.com//NONSGML kigkonsult.se iCalcreator 2.30.10//
CALSCALE:GREGORIAN
METHOD:PUBLISH
UID:4cc57a2d-cc62-4136-a2a4-2970390b3d65
X-WR-CALDESC:
X-WR-RELCALID:1f5d85a2a4e2196fe38015d25e1fa8a3
X-WR-TIMEZONE:America/New_York
BEGIN:VTIMEZONE
TZID:America/New_York
BEGIN:STANDARD
TZNAME:EST
DTSTART:20251102T020000
TZOFFSETFROM:-0400
TZOFFSETTO:-0500
RDATE:20261101T020000
END:STANDARD
BEGIN:DAYLIGHT
TZNAME:EDT
DTSTART:20260308T020000
TZOFFSETFROM:-0500
TZOFFSETTO:-0400
RDATE:20270314T020000
END:DAYLIGHT
END:VTIMEZONE
BEGIN:VEVENT
UID:a1652e89-df93-47c1-8e8f-9a3881ceac8c
DTSTAMP:20260422T143448Z
DESCRIPTION:
DTSTART;TZID=America/New_York:20260414T090000
DTEND;TZID=America/New_York:20260414T120000
LOCATION:771 E Main St\, Newark\, OH 43055 US
SUMMARY:Tree Store Open
END:VEVENT
END:VCALENDAR
