BEGIN:VCALENDAR
VERSION:2.0
PRODID:-//lickingswcd.com//NONSGML kigkonsult.se iCalcreator 2.30.10//
CALSCALE:GREGORIAN
METHOD:PUBLISH
UID:71f3e642-c5ec-49fc-8045-dbdac1cbe356
X-WR-CALDESC:
X-WR-RELCALID:8a478e0f6960d3fdd5835c022612a93e
X-WR-TIMEZONE:America/New_York
BEGIN:VTIMEZONE
TZID:America/New_York
BEGIN:STANDARD
TZNAME:EST
DTSTART:20251102T020000
TZOFFSETFROM:-0400
TZOFFSETTO:-0500
RDATE:20261101T020000
END:STANDARD
BEGIN:DAYLIGHT
TZNAME:EDT
DTSTART:20260308T020000
TZOFFSETFROM:-0500
TZOFFSETTO:-0400
RDATE:20270314T020000
END:DAYLIGHT
END:VTIMEZONE
BEGIN:VEVENT
UID:99297971-7ad4-484d-ae64-9cc3db314413
DTSTAMP:20260422T142409Z
DESCRIPTION:
DTSTART;TZID=America/New_York:20260415T130000
DTEND;TZID=America/New_York:20260415T160000
LOCATION:771 E Main St\, Newark\, OH 43055 US
SUMMARY:Tree Store Open
END:VEVENT
END:VCALENDAR
